BEGIN:VCALENDAR
VERSION:2.0
PRODID:-//Brandywine Valley - ECPv6.15.20//NONSGML v1.0//EN
CALSCALE:GREGORIAN
METHOD:PUBLISH
X-WR-CALNAME:Brandywine Valley
X-ORIGINAL-URL:https://brandywine.cisvusa.org
X-WR-CALDESC:Events for Brandywine Valley
REFRESH-INTERVAL;VALUE=DURATION:PT1H
X-Robots-Tag:noindex
X-PUBLISHED-TTL:PT1H
BEGIN:VTIMEZONE
TZID:America/New_York
BEGIN:DAYLIGHT
TZOFFSETFROM:-0500
TZOFFSETTO:-0400
TZNAME:EDT
DTSTART:20250309T070000
END:DAYLIGHT
BEGIN:STANDARD
TZOFFSETFROM:-0400
TZOFFSETTO:-0500
TZNAME:EST
DTSTART:20251102T060000
END:STANDARD
BEGIN:DAYLIGHT
TZOFFSETFROM:-0500
TZOFFSETTO:-0400
TZNAME:EDT
DTSTART:20260308T070000
END:DAYLIGHT
BEGIN:STANDARD
TZOFFSETFROM:-0400
TZOFFSETTO:-0500
TZNAME:EST
DTSTART:20261101T060000
END:STANDARD
BEGIN:DAYLIGHT
TZOFFSETFROM:-0500
TZOFFSETTO:-0400
TZNAME:EDT
DTSTART:20270314T070000
END:DAYLIGHT
BEGIN:STANDARD
TZOFFSETFROM:-0400
TZOFFSETTO:-0500
TZNAME:EST
DTSTART:20271107T060000
END:STANDARD
END:VTIMEZONE
BEGIN:VEVENT
DTSTART;TZID=America/New_York:20260305T190000
DTEND;TZID=America/New_York:20260305T203000
DTSTAMP:20260422T200131
CREATED:20250825T131027Z
LAST-MODIFIED:20260120T002840Z
UID:10000125-1772737200-1772742600@brandywine.cisvusa.org
SUMMARY:BV Monthly Meetings - March
DESCRIPTION:CLICK HERE TO LEARN ABOUT OUR NEW LOCATION.\nJoin us for our monthly Junior Branch (ages 10+ and up) and Adult Parent Meetings.\nAdults meet in a separate room while JBers participate in activities in the cafeteria.\nMeetings typically take place the first Thursday of each month during the school year.\nWhether you’re a currently active BVer\, a former BVer\, or a future BVer who’s hearing about us for the first time\, we’d love to see you!\nStay tuned for more events!  Sign up for our Newsletter to keep up on the latest.
URL:https://brandywine.cisvusa.org/event/bv-monthly-meetings-march2026/
LOCATION:Westtown School\, 975 Westtown Rd\, West Chester\, PA\, 19382\, United States
CATEGORIES:Adult Activities,Chapter Activites,JB Activities
ATTACH;FMTTYPE=image/jpeg:https://brandywine.cisvusa.org/wp-content/uploads/sites/2/2020/03/GettyImages-688548738-e1585072355698.jpg
END:VEVENT
BEGIN:VEVENT
DTSTART;TZID=America/New_York:20260409T190000
DTEND;TZID=America/New_York:20260409T203000
DTSTAMP:20260422T200131
CREATED:20250825T131857Z
LAST-MODIFIED:20260323T140946Z
UID:10000128-1775761200-1775766600@brandywine.cisvusa.org
SUMMARY:BV Monthly Meetings - April
DESCRIPTION:CLICK HERE TO LEARN ABOUT OUR NEW LOCATION.\nNOTE: THIS IS THE 2ND THURSDAY OF THE MONTH!\nJoin us for our monthly Junior Branch (ages 10+ and up) and Adult Parent Meetings.\nAdults meet in a separate room while JBers participate in activities in the cafeteria.\nMeetings typically take place the first Thursday of each month during the school year.\nWhether you’re a currently active BVer\, a former BVer\, or a future BVer who’s hearing about us for the first time\, we’d love to see you!\nStay tuned for more events!  Sign up for our Newsletter to keep up on the latest.
URL:https://brandywine.cisvusa.org/event/bv-monthly-meetings-april-2/
LOCATION:Westtown School\, 975 Westtown Rd\, West Chester\, PA\, 19382\, United States
CATEGORIES:Adult Activities,Chapter Activites,JB Activities
ATTACH;FMTTYPE=image/jpeg:https://brandywine.cisvusa.org/wp-content/uploads/sites/2/2025/08/IMG_4510.jpg
END:VEVENT
BEGIN:VEVENT
DTSTART;TZID=America/New_York:20260410T183000
DTEND;TZID=America/New_York:20260412T110000
DTSTAMP:20260422T200131
CREATED:20260302T000148Z
LAST-MODIFIED:20260303T204454Z
UID:10000138-1775845800-1775991600@brandywine.cisvusa.org
SUMMARY:Regional Mini Camp
DESCRIPTION:Join us for the\n2026 Regional Mini Camp\n\nWe are excited to announce the Regional Mini Camp will be hosted by CISV Pittsburgh at Camp Guyasuta in Sharpsburg\, PA. \nRegional Mini Camp is a chance to experience a CISV camp in a weekend with chapters from across the Midwest and the Northeast. \nCheck in is on Friday\, April 10th\, from 6:30 to 8:00pm. Camp ends on Sunday morning\, April 12th at 11:00am.\nNOTE: No dinner is served on Friday night.\nCamp Guyasuta is located 15 minutes east of Pittsburgh.  Click here for a Google map of the location. \nRegistration Fee: $125.   The deadline to register and complete payment at this price is March 18th.  This fee covers 2 nights of lodging\, 4 meals (Saturday breakfast through Sunday breakfast)\, and a camp t-shirt!! \nTransportation:\nYou can provide your own transportation or ride in the 12 seat van the chapter is renting.  We will depart from just off the Turnpike exit in Exton at 4pm and arrive at the camp shortly after 8pm with a quick stretch and food break.  The return will arrive back in Exton between 3 and 4pm.  The cost of the van\, fuel\, and tolls will be split and will be an additional $75 per participant for the shared ride.  Priority will be given to families who are traveling on a CISV program this summer and the current JB Board. \nHow to Register:\n1) Register (but do not pay) with CISV Pittsburgh for RMC.  Our chapter will collect and handle payments.\nHere is the link: https://pittsburgh.cisvusa.org/event/regional-mini-camp-2026/\n2) Return to this page to register with our chapter – even if you will not be riding the van.\nRegistration is at the bottom of this page.  We will reach out to you to make arrangements for payment by March 19th. \nOur deadline to register is March 18th.  This is two days prior to CISV Pittsburgh’s deadline.  Payment must be made on March 19th to hold your spot in the van.  If you are unable to attend due to lack of transportation\, that will be your opportunity to cancel your registration. \nWhat to bring:\nComfy clothes (cold and wet weather clothes\, too!)\nPajamas\nRunning shoes for games and activities\nReusable water bottle\nToiletries\nFlip flops or shower shoes\nSunscreen\nMedicines (NOTE: If you bring any medications\, they must be accompanied by instructions and kept with and administered by a chaperone. This includes over-the-counter medications such as Tylenol\, cold medicine\, etc.)\nTwin bed linens and blanket or sleeping bag\nPillow\nTowel\nRequired forms – These will be emailed to participants prior to RMC\nDO NOT bring laptops or expensive clothes/gadgets. Note that cell phone and tablet use will not be permitted by participants during the activities. \n\n\n                \n                        \n                            Pittsburgh RMC Registration\n                             \n							"*" indicates required fields \n                        \n                        Parent/Guardian Name*Parent/Guardian Cell Number*Parent/Guardian Email Address*\n                            \n                        Number of Participants*123Would you like to carpool in the chapter van for $75 per person?\n								\n								Yes\n							\n								\n								No\n							This will be on a first-come first-served basis with priority given to families traveling in a CISV summer program and the JB Board.Participant #1 - Full Name*Participant #1 - Email Address*\n                            \n                        Participant #1 - Please list any dietary or health restrictionsParticipant #2 RegistrationParticipant #2 - Full Name*Participant #2 - Email Address*\n                            \n                        Participant #2 - Please list any dietary or health restrictionsParticipant #3 RegistrationParticipant #3 - Full Name*Participant #3 - Email Address*\n                            \n                        Participant #3 - Please list any dietary or health restrictions
URL:https://brandywine.cisvusa.org/event/regional-mini-camp-2026/
LOCATION:CAMP GUYASUTA\, 300 23rd St Ext\, Sharpsburg\, PA 15215\, Sharpsburg\, PA\, 15215\, United States
ATTACH;FMTTYPE=image/png:https://brandywine.cisvusa.org/wp-content/uploads/sites/2/2026/03/bridges-768x144-1.png
END:VEVENT
BEGIN:VEVENT
DTSTART;TZID=America/New_York:20260426T160000
DTEND;TZID=America/New_York:20260426T180000
DTSTAMP:20260422T200131
CREATED:20241130T212038Z
LAST-MODIFIED:20260120T174524Z
UID:10000108-1777219200-1777226400@brandywine.cisvusa.org
SUMMARY:CISV BV Game Night
DESCRIPTION:Join us for our Game Night!\nCome have fun with your CISV friends and family.  You can bring your favorite game or learn a new one.  Feel free to bring snacks and/or beverages to share. \nWe will meet on April 26th from 4pm to 6pm (or later!) at Meredith’s in Wilmington\, Delaware. \nHer address will be provided after your RSVP.  Can’t wait to see you there! \n\n                \n                        Name\n                            \n                            \n                                                    \n                                                    First\n                                                \n                            \n                            \n                                                    \n                                                    Last\n                                                \n                            \n                        Number of peope attending including yourselfEmail
URL:https://brandywine.cisvusa.org/event/cisv-bv-game-night/
LOCATION:PA
ATTACH;FMTTYPE=image/jpeg:https://brandywine.cisvusa.org/wp-content/uploads/sites/2/2024/11/game-night-720x400-720x388-1.jpg
END:VEVENT
BEGIN:VEVENT
DTSTART;TZID=America/New_York:20260507T190000
DTEND;TZID=America/New_York:20260507T203000
DTSTAMP:20260422T200131
CREATED:20250825T130437Z
LAST-MODIFIED:20260323T140850Z
UID:10000124-1778180400-1778185800@brandywine.cisvusa.org
SUMMARY:BV Monthly Meetings - May
DESCRIPTION:Join us for our monthly Junior Branch (ages 10+ and up) and Adult Parent Meetings.\nAdults meet in a separate room while JBers participate in activities in the cafeteria.\nMeetings typically take place the first Thursday of each month during the school year.\nWhether you’re a currently active BVer\, a former BVer\, or a future BVer who’s hearing about us for the first time\, we’d love to see you!\nStay tuned for more events!  Sign up for our Newsletter to keep up on the latest.
URL:https://brandywine.cisvusa.org/event/bv-monthly-meetings-may2026/
LOCATION:Westtown School\, 975 Westtown Rd\, West Chester\, PA\, 19382\, United States
CATEGORIES:Adult Activities,Chapter Activites,JB Activities
ATTACH;FMTTYPE=image/jpeg:https://brandywine.cisvusa.org/wp-content/uploads/sites/2/2025/08/IMG_4510.jpg
END:VEVENT
BEGIN:VEVENT
DTSTART;TZID=America/New_York:20260531T160000
DTEND;TZID=America/New_York:20260531T180000
DTSTAMP:20260422T200131
CREATED:20250825T132334Z
LAST-MODIFIED:20260222T155121Z
UID:10000129-1780243200-1780250400@brandywine.cisvusa.org
SUMMARY:Annual BV End-of-Year Picnic
DESCRIPTION:The annual BV end-of-year picnic! \nWe’ll meet at the Oakbourne Park Pavillion.  Click here for a Google Map Location \nCurrent chapter members and alumni gather to share a potluck dinner\, meet the delegates and leaders who will be traveling to CISV programs in 2026\, and say “See you in September!” to each other. \nBring a dish to share (please indicate if it is vegetarian and if it contains gluten\, nuts\, soy\, or dairy)\, and help support our sustainability efforts by bringing your own reusable plates\, utensils\, cups\, and napkins. \n \n[NOTE: This is the final chapter meeting of CISV Brandywine Valley before the summer break. Our regular monthly meetings resume in September!]
URL:https://brandywine.cisvusa.org/event/annual-bv-end-of-year-picnic-2/
LOCATION:Oakbourne Park Pavillion\, 1014 S Concord Rd\, West Chester\, 19382\, United States
ATTACH;FMTTYPE=image/jpeg:https://brandywine.cisvusa.org/wp-content/uploads/sites/2/2017/09/picnic.jpg
END:VEVENT
END:VCALENDAR