BEGIN:VCALENDAR
VERSION:2.0
PRODID:-//Brandywine Valley - ECPv6.15.20//NONSGML v1.0//EN
CALSCALE:GREGORIAN
METHOD:PUBLISH
X-WR-CALNAME:Brandywine Valley
X-ORIGINAL-URL:https://brandywine.cisvusa.org
X-WR-CALDESC:Events for Brandywine Valley
REFRESH-INTERVAL;VALUE=DURATION:PT1H
X-Robots-Tag:noindex
X-PUBLISHED-TTL:PT1H
BEGIN:VTIMEZONE
TZID:America/New_York
BEGIN:DAYLIGHT
TZOFFSETFROM:-0500
TZOFFSETTO:-0400
TZNAME:EDT
DTSTART:20250309T070000
END:DAYLIGHT
BEGIN:STANDARD
TZOFFSETFROM:-0400
TZOFFSETTO:-0500
TZNAME:EST
DTSTART:20251102T060000
END:STANDARD
BEGIN:DAYLIGHT
TZOFFSETFROM:-0500
TZOFFSETTO:-0400
TZNAME:EDT
DTSTART:20260308T070000
END:DAYLIGHT
BEGIN:STANDARD
TZOFFSETFROM:-0400
TZOFFSETTO:-0500
TZNAME:EST
DTSTART:20261101T060000
END:STANDARD
BEGIN:DAYLIGHT
TZOFFSETFROM:-0500
TZOFFSETTO:-0400
TZNAME:EDT
DTSTART:20270314T070000
END:DAYLIGHT
BEGIN:STANDARD
TZOFFSETFROM:-0400
TZOFFSETTO:-0500
TZNAME:EST
DTSTART:20271107T060000
END:STANDARD
END:VTIMEZONE
BEGIN:VEVENT
DTSTART;TZID=America/New_York:20260108T190000
DTEND;TZID=America/New_York:20260108T203000
DTSTAMP:20260424T222343
CREATED:20250825T121220Z
LAST-MODIFIED:20251224T163319Z
UID:10000123-1767898800-1767904200@brandywine.cisvusa.org
SUMMARY:BV Monthly Meeting - NEW LOCATION!
DESCRIPTION:NOTE: THIS IS THE 2ND THURSDAY OF THE MONTH! \nCLICK HERE TO LEARN ABOUT OUR NEW LOCATION.\nJoin us for our monthly Junior Branch (ages 10+ and up) and Adult Parent Meetings. \nThe Junior Branch participate in activities while the adults meet in a separate room.   \nMeetings typically take place the first Thursday of each month during the school year. \nWhether you’re a currently active BVer\, a former BVer\, or a future BVer who’s hearing about us for the first time\, we’d love to see you! \nStay tuned for more events!  Sign up for our Newsletter to keep up on the latest.
URL:https://brandywine.cisvusa.org/event/bv-monthly-meetings-january2026/
LOCATION:Westtown School\, 975 Westtown Rd\, West Chester\, PA\, 19382\, United States
CATEGORIES:Adult Activities,Chapter Activites,JB Activities
ATTACH;FMTTYPE=image/jpeg:https://brandywine.cisvusa.org/wp-content/uploads/sites/2/2025/12/Meeting-Location-Change.jpg
END:VEVENT
BEGIN:VEVENT
DTSTART;TZID=America/New_York:20260110T093000
DTEND;TZID=America/New_York:20260110T110000
DTSTAMP:20260424T222343
CREATED:20251214T152157Z
LAST-MODIFIED:20260105T020235Z
UID:10000134-1768037400-1768042800@brandywine.cisvusa.org
SUMMARY:Member/Alumni Coffee Meetup
DESCRIPTION:Friendships\, recent and past\, have formed from our affiliation with Brandywine Valley CISV.  Join us for a casual meetup at Bella Vita Coffee & Cream in Exton\, PA for a sip\, bite\, and conversation.  This event\, for adults of BV\, is free (self-funded) but please RSVP by January 8th so we can reserve table space.  Space is limited to 15.
URL:https://brandywine.cisvusa.org/event/member-alumni-coffee-meetup/
LOCATION:Bella Vita Coffee & Cream\, 284 Main St Suite 200\, Exton\, PA\, 19341\, United States
ATTACH;FMTTYPE=image/jpeg:https://brandywine.cisvusa.org/wp-content/uploads/sites/2/2025/12/Coffee-pic-scaled.jpeg
ORGANIZER;CN="Janet Reynolds":MAILTO:janet.reynolds@msn.com
END:VEVENT
END:VCALENDAR