BEGIN:VCALENDAR
VERSION:2.0
PRODID:-//Brandywine Valley - ECPv6.15.20//NONSGML v1.0//EN
CALSCALE:GREGORIAN
METHOD:PUBLISH
X-WR-CALNAME:Brandywine Valley
X-ORIGINAL-URL:https://brandywine.cisvusa.org
X-WR-CALDESC:Events for Brandywine Valley
REFRESH-INTERVAL;VALUE=DURATION:PT1H
X-Robots-Tag:noindex
X-PUBLISHED-TTL:PT1H
BEGIN:VTIMEZONE
TZID:UTC
BEGIN:STANDARD
TZOFFSETFROM:+0000
TZOFFSETTO:+0000
TZNAME:UTC
DTSTART:20180101T000000
END:STANDARD
END:VTIMEZONE
BEGIN:VTIMEZONE
TZID:America/New_York
BEGIN:DAYLIGHT
TZOFFSETFROM:-0500
TZOFFSETTO:-0400
TZNAME:EDT
DTSTART:20170312T070000
END:DAYLIGHT
BEGIN:STANDARD
TZOFFSETFROM:-0400
TZOFFSETTO:-0500
TZNAME:EST
DTSTART:20171105T060000
END:STANDARD
BEGIN:DAYLIGHT
TZOFFSETFROM:-0500
TZOFFSETTO:-0400
TZNAME:EDT
DTSTART:20180311T070000
END:DAYLIGHT
BEGIN:STANDARD
TZOFFSETFROM:-0400
TZOFFSETTO:-0500
TZNAME:EST
DTSTART:20181104T060000
END:STANDARD
BEGIN:DAYLIGHT
TZOFFSETFROM:-0500
TZOFFSETTO:-0400
TZNAME:EDT
DTSTART:20190310T070000
END:DAYLIGHT
BEGIN:STANDARD
TZOFFSETFROM:-0400
TZOFFSETTO:-0500
TZNAME:EST
DTSTART:20191103T060000
END:STANDARD
END:VTIMEZONE
BEGIN:VEVENT
DTSTART;TZID=UTC:20190906T183000
DTEND;TZID=UTC:20190906T210000
DTSTAMP:20260423T142311
CREATED:20180708T175421Z
LAST-MODIFIED:20190821T161817Z
UID:10000040-1567794600-1567803600@brandywine.cisvusa.org
SUMMARY:Welcome Home Party!
DESCRIPTION:2019 delegates and parents: Come see the folks you traveled with this Summer (Spring\, Winter!) and let us know about your experience–all the things you loved and what can be done to improve things for future travelers and parents. Pizza and refreshments will be served! \nWe would like to invite all travelers and their parents to a Welcome Home Party/Pizza Dinner on Friday\, September 6\, in the Fugett Middle School cafeteria from 6:30 pm to 9:00 pm. The party is an exciting reunion for all the delegates and leaders\, and it provides a fun way to share your experience with others. \nIn addition\, Brandywine Valley CISV Chapter Board members will be on hand to solicit feedback from your experience in order to plan for our 2019/2020 year\, capitalize on what we have done right and work on bettering the Chapter. To obtain these goals\, we will be asking that parents\, delegates and leader fill out online surveys – additional\, and important\, evaluation tools for our chapter. Please click on appropriate link below to fill out your online survey. \nCamp Delegate survey \nParent of Camp Delegate Survey \nIndividual Traveler Survey \nParent of Individual Traveler Survey \nThank you and we will see you in September.
URL:https://brandywine.cisvusa.org/event/welcome-home-party-2/
LOCATION:Fugett Middle School\, 500 Ellis Ln\, West Chester\, PA\, 19382\, 500 Ellis Lane\, West Chester\, 19382
CATEGORIES:Chapter Activites
ATTACH;FMTTYPE=image/jpeg:https://brandywine.cisvusa.org/wp-content/uploads/sites/2/2018/07/2019-welcome-back-3.jpg
ORGANIZER;CN="Julie Manser":MAILTO:brandywine@cisvusa.org
END:VEVENT
BEGIN:VEVENT
DTSTART;TZID=America/New_York:20180909T120000
DTEND;TZID=America/New_York:20180909T160000
DTSTAMP:20260423T142311
CREATED:20180822T144856Z
LAST-MODIFIED:20180823T172425Z
UID:10000047-1536494400-1536508800@brandywine.cisvusa.org
SUMMARY:Annual Board Retreat
DESCRIPTION:Mandatory meeting for all members of the Adult and JB Board. \nThis meeting\, which takes place annually\, ensures that BV is ready for the upcoming CISV year! \nAdult and JB Board members gather to discuss the previous winter/spring/summer programs to help take advantage of the successes and institute improvements. \nIn addition\, they will plan upcoming events\, brainstorm on mosaic opportunities and get to know each other a little better before the year begins. \nPlan on enjoying a fun and productive afternoon. \nFor Adult and JB Board members only. Register above. \n 
URL:https://brandywine.cisvusa.org/event/annual-board-retreat/
LOCATION:Shelly Grossman\, 707 Hemlock Hill Lane\, West Chester\, PA\, 19380\, United States
ATTACH;FMTTYPE=image/jpeg:https://brandywine.cisvusa.org/wp-content/uploads/sites/2/2017/09/cisv-songelevator-speeck.jpg
ORGANIZER;CN="Julie Manser":MAILTO:brandywine@cisvusa.org
GEO:39.9947685;-75.5563046
X-APPLE-STRUCTURED-LOCATION;VALUE=URI;X-ADDRESS=Shelly Grossman 707 Hemlock Hill Lane West Chester PA 19380 United States;X-APPLE-RADIUS=500;X-TITLE=707 Hemlock Hill Lane:geo:-75.5563046,39.9947685
END:VEVENT
END:VCALENDAR