BEGIN:VCALENDAR
VERSION:2.0
PRODID:-//Brandywine Valley - ECPv6.15.20//NONSGML v1.0//EN
CALSCALE:GREGORIAN
METHOD:PUBLISH
X-WR-CALNAME:Brandywine Valley
X-ORIGINAL-URL:https://brandywine.cisvusa.org
X-WR-CALDESC:Events for Brandywine Valley
REFRESH-INTERVAL;VALUE=DURATION:PT1H
X-Robots-Tag:noindex
X-PUBLISHED-TTL:PT1H
BEGIN:VTIMEZONE
TZID:America/New_York
BEGIN:DAYLIGHT
TZOFFSETFROM:-0500
TZOFFSETTO:-0400
TZNAME:EDT
DTSTART:20200308T070000
END:DAYLIGHT
BEGIN:STANDARD
TZOFFSETFROM:-0400
TZOFFSETTO:-0500
TZNAME:EST
DTSTART:20201101T060000
END:STANDARD
BEGIN:DAYLIGHT
TZOFFSETFROM:-0500
TZOFFSETTO:-0400
TZNAME:EDT
DTSTART:20210314T070000
END:DAYLIGHT
BEGIN:STANDARD
TZOFFSETFROM:-0400
TZOFFSETTO:-0500
TZNAME:EST
DTSTART:20211107T060000
END:STANDARD
BEGIN:DAYLIGHT
TZOFFSETFROM:-0500
TZOFFSETTO:-0400
TZNAME:EDT
DTSTART:20220313T070000
END:DAYLIGHT
BEGIN:STANDARD
TZOFFSETFROM:-0400
TZOFFSETTO:-0500
TZNAME:EST
DTSTART:20221106T060000
END:STANDARD
END:VTIMEZONE
BEGIN:VEVENT
DTSTART;TZID=America/New_York:20210606T123000
DTEND;TZID=America/New_York:20210606T150000
DTSTAMP:20260421T234802
CREATED:20210511T140018Z
LAST-MODIFIED:20210603T022024Z
UID:10000006-1622982600-1622991600@brandywine.cisvusa.org
SUMMARY:Quilt-Making Mosaic
DESCRIPTION:Our mosaic team has created a quilt-making event where JBers and adults can decorate a quilt square\, all of which will be put together afterward into one\, big quilt! \nNext year\, we will auction it off at the gala and all of the proceeds from this item will go to Valley Youth House. \nValley Youth House’s mission is to be “the catalyst for youth to achieve their desired future through genuine relationships that support families\, ensure safe places\, and build community connections.” Through this mission\, the organization aims to create communities where all youth can feel included and productive. \nWhen: June 6 from 12:30-3pm\nWhere: Ella Ganz (address will be provided in confirmation email.)\nWhat to bring: Mask\, water\, snacks…
URL:https://brandywine.cisvusa.org/event/quilt-making-mosaic/
ATTACH;FMTTYPE=image/jpeg:https://brandywine.cisvusa.org/wp-content/uploads/sites/2/2021/05/image_6483441.jpg
ORGANIZER;CN="Sylvia Brofka-Berends":MAILTO:sylvia.brofkaberends@gmail.com
END:VEVENT
END:VCALENDAR