BEGIN:VCALENDAR
VERSION:2.0
PRODID:-//Brandywine Valley - ECPv6.15.20//NONSGML v1.0//EN
CALSCALE:GREGORIAN
METHOD:PUBLISH
X-WR-CALNAME:Brandywine Valley
X-ORIGINAL-URL:https://brandywine.cisvusa.org
X-WR-CALDESC:Events for Brandywine Valley
REFRESH-INTERVAL;VALUE=DURATION:PT1H
X-Robots-Tag:noindex
X-PUBLISHED-TTL:PT1H
BEGIN:VTIMEZONE
TZID:America/New_York
BEGIN:DAYLIGHT
TZOFFSETFROM:-0500
TZOFFSETTO:-0400
TZNAME:EDT
DTSTART:20180311T070000
END:DAYLIGHT
BEGIN:STANDARD
TZOFFSETFROM:-0400
TZOFFSETTO:-0500
TZNAME:EST
DTSTART:20181104T060000
END:STANDARD
BEGIN:DAYLIGHT
TZOFFSETFROM:-0500
TZOFFSETTO:-0400
TZNAME:EDT
DTSTART:20190310T070000
END:DAYLIGHT
BEGIN:STANDARD
TZOFFSETFROM:-0400
TZOFFSETTO:-0500
TZNAME:EST
DTSTART:20191103T060000
END:STANDARD
BEGIN:DAYLIGHT
TZOFFSETFROM:-0500
TZOFFSETTO:-0400
TZNAME:EDT
DTSTART:20200308T070000
END:DAYLIGHT
BEGIN:STANDARD
TZOFFSETFROM:-0400
TZOFFSETTO:-0500
TZNAME:EST
DTSTART:20201101T060000
END:STANDARD
END:VTIMEZONE
BEGIN:VEVENT
DTSTART;TZID=America/New_York:20190303T170000
DTEND;TZID=America/New_York:20190303T200000
DTSTAMP:20260424T004154
CREATED:20171126T203422Z
LAST-MODIFIED:20190226T160243Z
UID:10000034-1551632400-1551643200@brandywine.cisvusa.org
SUMMARY:Potluck Signing Dinner
DESCRIPTION:A celebration of upcoming travel\, our potluck signing dinner is for all delegates traveling with our Spring\, Summer or Winter programs. \nThis meet-and-greet is where the 2019 delegates\, their families and leaders get together for the very first time. \nAll traveling delegates and their family members are invited and attendance is highly recommended! \nIn addition to enjoying great food\, families learn a little more about CISV\, meet the program leaders\, schedule their delegation meetings\, sign their contract\, sign-up to volunteer\, complete background clearances\, receive and complete important travel forms and information. \nBring a dish to share (please indicate if it is vegetarian and if it contains gluten\, nuts\, soy\, or dairy)\, and help support our sustainability efforts by bringing your own reusable plates\, utensils\, cups\, and napkins. \nThis is also where the first payment is due and the delegate contract is signed.  There will also be spiritwear for sale: items range from $8 – $25 (most t-shirts are from $12-$15). \nTentative Schedule: \n\n5:00 – gathering and contract signing\n6:30 – dinner\n7:30 – parent training and delegate activities led by the Junior Branch\n\nPlease RSVP above; see you soon. \n 
URL:https://brandywine.cisvusa.org/event/potluck-signing-dinner/
LOCATION:Beth Chaim\, 389 Conestoga Rd\, \, PA 19355\, Malvern\, PA\, 19355\, United States
ATTACH;FMTTYPE=image/jpeg:https://brandywine.cisvusa.org/wp-content/uploads/sites/2/2016/09/hands-in-circle.jpg
END:VEVENT
END:VCALENDAR