BEGIN:VCALENDAR
VERSION:2.0
PRODID:-//Brandywine Valley - ECPv6.15.20//NONSGML v1.0//EN
CALSCALE:GREGORIAN
METHOD:PUBLISH
X-WR-CALNAME:Brandywine Valley
X-ORIGINAL-URL:https://brandywine.cisvusa.org
X-WR-CALDESC:Events for Brandywine Valley
REFRESH-INTERVAL;VALUE=DURATION:PT1H
X-Robots-Tag:noindex
X-PUBLISHED-TTL:PT1H
BEGIN:VTIMEZONE
TZID:America/New_York
BEGIN:DAYLIGHT
TZOFFSETFROM:-0500
TZOFFSETTO:-0400
TZNAME:EDT
DTSTART:20210314T070000
END:DAYLIGHT
BEGIN:STANDARD
TZOFFSETFROM:-0400
TZOFFSETTO:-0500
TZNAME:EST
DTSTART:20211107T060000
END:STANDARD
BEGIN:DAYLIGHT
TZOFFSETFROM:-0500
TZOFFSETTO:-0400
TZNAME:EDT
DTSTART:20220313T070000
END:DAYLIGHT
BEGIN:STANDARD
TZOFFSETFROM:-0400
TZOFFSETTO:-0500
TZNAME:EST
DTSTART:20221106T060000
END:STANDARD
BEGIN:DAYLIGHT
TZOFFSETFROM:-0500
TZOFFSETTO:-0400
TZNAME:EDT
DTSTART:20230312T070000
END:DAYLIGHT
BEGIN:STANDARD
TZOFFSETFROM:-0400
TZOFFSETTO:-0500
TZNAME:EST
DTSTART:20231105T060000
END:STANDARD
END:VTIMEZONE
BEGIN:VEVENT
DTSTART;TZID=America/New_York:20221113T140000
DTEND;TZID=America/New_York:20221113T160000
DTSTAMP:20260421T004921
CREATED:20170923T224729Z
LAST-MODIFIED:20240212T140630Z
UID:10000032-1668348000-1668355200@brandywine.cisvusa.org
SUMMARY:"I Am Eleven" Screening
DESCRIPTION:Do you remember when you were eleven years old? \nDo you wonder what it’s like to be a kid in other parts of the world? \nOur flagship program\, Village\, is for 11-year-olds; thus it was only natural for us to hold a screening for I Am Eleven documentary that focuses on that age group.\nBring your family and friends to this free screening and discussion of “I Am Eleven\,” an award-winning film (and New York Times Critics’ Pick)! \n“I Am Eleven” explores the lives and thoughts of children from fifteen countries\, weaving together deeply personal and at times hilarious snapshots of what it means to be at this transitional age. In this insightful\, funny\, and moving documentary portrait of childhood\, young minds provide us with a powerful insight into the future of our world. CISV believes we can have a global impact on our world and that the best place to start is with the children. \nPlease register above\, so we know you are attending.\nSunday\, 13 November\, 2 p.m. to 4 p.m.\nChester County Library and District Center\n450 Exton Square Parkway\, Exton\, Pennsylvania 19341 \nWe encourage you to share this information with others – download our flyer below.
URL:https://brandywine.cisvusa.org/event/i-am-eleven-screening/
LOCATION:Chester County Library and District Center\, 450 Exton Square Parkway\, Exton\, PA\, 19341\, United States
CATEGORIES:Chapter Activites
ATTACH;FMTTYPE=image/jpeg:https://brandywine.cisvusa.org/wp-content/uploads/sites/2/2017/09/iamelevencover.jpg
END:VEVENT
END:VCALENDAR