BEGIN:VCALENDAR
VERSION:2.0
PRODID:-//Brandywine Valley - ECPv6.15.20//NONSGML v1.0//EN
CALSCALE:GREGORIAN
METHOD:PUBLISH
X-WR-CALNAME:Brandywine Valley
X-ORIGINAL-URL:https://brandywine.cisvusa.org
X-WR-CALDESC:Events for Brandywine Valley
REFRESH-INTERVAL;VALUE=DURATION:PT1H
X-Robots-Tag:noindex
X-PUBLISHED-TTL:PT1H
BEGIN:VTIMEZONE
TZID:America/New_York
BEGIN:DAYLIGHT
TZOFFSETFROM:-0500
TZOFFSETTO:-0400
TZNAME:EDT
DTSTART:20210314T070000
END:DAYLIGHT
BEGIN:STANDARD
TZOFFSETFROM:-0400
TZOFFSETTO:-0500
TZNAME:EST
DTSTART:20211107T060000
END:STANDARD
BEGIN:DAYLIGHT
TZOFFSETFROM:-0500
TZOFFSETTO:-0400
TZNAME:EDT
DTSTART:20220313T070000
END:DAYLIGHT
BEGIN:STANDARD
TZOFFSETFROM:-0400
TZOFFSETTO:-0500
TZNAME:EST
DTSTART:20221106T060000
END:STANDARD
BEGIN:DAYLIGHT
TZOFFSETFROM:-0500
TZOFFSETTO:-0400
TZNAME:EDT
DTSTART:20230312T070000
END:DAYLIGHT
BEGIN:STANDARD
TZOFFSETFROM:-0400
TZOFFSETTO:-0500
TZNAME:EST
DTSTART:20231105T060000
END:STANDARD
BEGIN:DAYLIGHT
TZOFFSETFROM:-0500
TZOFFSETTO:-0400
TZNAME:EDT
DTSTART:20240310T070000
END:DAYLIGHT
BEGIN:STANDARD
TZOFFSETFROM:-0400
TZOFFSETTO:-0500
TZNAME:EST
DTSTART:20241103T060000
END:STANDARD
BEGIN:DAYLIGHT
TZOFFSETFROM:-0500
TZOFFSETTO:-0400
TZNAME:EDT
DTSTART:20250309T070000
END:DAYLIGHT
BEGIN:STANDARD
TZOFFSETFROM:-0400
TZOFFSETTO:-0500
TZNAME:EST
DTSTART:20251102T060000
END:STANDARD
BEGIN:DAYLIGHT
TZOFFSETFROM:-0500
TZOFFSETTO:-0400
TZNAME:EDT
DTSTART:20260308T070000
END:DAYLIGHT
BEGIN:STANDARD
TZOFFSETFROM:-0400
TZOFFSETTO:-0500
TZNAME:EST
DTSTART:20261101T060000
END:STANDARD
BEGIN:DAYLIGHT
TZOFFSETFROM:-0500
TZOFFSETTO:-0400
TZNAME:EDT
DTSTART:20270314T070000
END:DAYLIGHT
BEGIN:STANDARD
TZOFFSETFROM:-0400
TZOFFSETTO:-0500
TZNAME:EST
DTSTART:20271107T060000
END:STANDARD
END:VTIMEZONE
BEGIN:VEVENT
DTSTART;TZID=America/New_York:20260123T180000
DTEND;TZID=America/New_York:20260125T110000
DTSTAMP:20260419T182142
CREATED:20251201T235041Z
LAST-MODIFIED:20260123T120507Z
UID:10000133-1769191200-1769338800@brandywine.cisvusa.org
SUMMARY:Chapter Mini Camp
DESCRIPTION:Join us for the\n2026 Chapter Mini-Camp\nThis year’s theme is Frozen\nWe are happy to be able to offer a Chapter Mini-Camp to our BV JBers at Innabah Camp & Retreat Center.\nAs an organization dedicated to inclusivity\, CISV Brandywine Valley welcomes youth with all experiences and backgrounds. \nCheck in is on Friday\, January 23rd\, from 6:00 to 7:00 pm. Camp ends on Sunday morning\, January 25th\, at 11:00 am.\nInnabah is just north of Chester Springs off Route 100. Our group will be staying in a heated lodge with separate accommodations for male and female JB / chaperones. The lodge has bunk-bed style sleeping configurations. \n  \nHelp make CMC possible by being a chaperone! CISV rules require one chaperone for every eight youth. Chaperoning is a very low-key way for adults to see what the kids actually do at CISV (and it’s super easy\, because the JB board plans all the activities). Chaperones must be over 21 and have background checks (download the forms here) on file with the chapter. If you’d like to chaperone or have questions about the background checks\, please contact Heather Simon. \nChaperone shifts are as follows:\nFriday\, 6:00 pm – Saturday\, 2:30 pm (Saturday breakfast & lunch included)\nand/or Saturday\, 2:00 pm – Sunday\, 11:00 am (Saturday dinner & Sunday breakfast included)\nChaperones are FREE! and encouraged to come and watch their child learn about CISV.\nChaperone Registration is at the bottom of this web page.\n \n  \nEarly Registration Fee: $199.   The deadline to register at this price is January 10th at 6pm.\nThe registration fee is $215 from 6pm on January 10th through January 21st.  We cannot guarantee a t-shirt for registrations during this period.\nPayment can be made by Venmo or Paypal.  Payments by Paypal incur a $5 fee per participant to cover Paypal charges.\nScholarships are available.  Please email brandywine@cisvusa.org for more information.\nThe fee covers 2 nights of lodging\, 4 meals (Saturday breakfast through Sunday breakfast)\, and a camp t-shirt!! \n  \nSchedule:\nCheck-in is on Friday\, January 25th\, from 6:00 to 7:00 pm. (Please let us know if you will be arriving late.)\nNOTE: No dinner is served on Friday night.\nPick-up is on Sunday at 11:00 am. PLEASE BE PROMPT. \n  \nWhat to bring:\n– Cold weather clothing (warm jacket\, boots if needed)\n– PJ’s\n– Comfy clothes\n– Running shoes for games/activities\n– Reusable water bottle\n– Toiletries/medicines\n– Towel\n– A snack to share\n– Required forms – see below\nDietary needs?  We will do our best to accommodate special diet requests (please indicate on registration form)\, but recommend that those with special dietary needs bring along their own supplemental FOOD and/or SNACKS. \nDo not bring laptops or expensive clothes/gadgets. Note that cell phone and tablet use will not be permitted by participants during the activities. \n  \nHow to Register:\n– Each participant must be a member of any CISV chapter.  Register here to become a member of Brandywine Valley.\n– Each participant must also complete the Youth-Legal-Form. This form requires the signature of both the participant and a parent and a copy of your family’s health insurance card. Please email the completed form and health insurance card to brandywine@cisvusa.org by January 22nd.  A reminder email will be sent prior to camp requesting these items.\n– Each participant must register and pay for Chapter Mini-Camp below. \nContact information and questions:\nGeneral questions: Email Joanna Morrissey.\nDuring camp: We will send a contact name and number before camp begins. \nREGISTRATION IS CLOSED FOR THIS EVENT. \nIf you can chaperone\, please return to this page AFTER completing the junior branch registration. \nPlease submit junior branch registration first before returning to chaperone registration. \n  \nOnce you register\, you will receive a confirmation email. Thank you and see you soon! \n 
URL:https://brandywine.cisvusa.org/event/chapter-mini-camp-4/
LOCATION:Innabah Camp and Retreat Center\, 712 Pughtown Rd\, Spring City\, PA\, 19475\, United States
ATTACH;FMTTYPE=image/jpeg:https://brandywine.cisvusa.org/wp-content/uploads/sites/2/2025/12/CISV-BV-CMC-Header-01-scaled.jpeg
END:VEVENT
BEGIN:VEVENT
DTSTART;TZID=America/New_York:20250124T180000
DTEND;TZID=America/New_York:20250126T110000
DTSTAMP:20260419T182142
CREATED:20241114T050534Z
LAST-MODIFIED:20250121T032529Z
UID:10000105-1737741600-1737889200@brandywine.cisvusa.org
SUMMARY:Chapter Mini Camp
DESCRIPTION:Join us for the\n2025 Chapter Mini-Camp\nThis year’s theme is Inside Out\n\n  \nRegistration is closed at this time. \nWe are happy to be able to offer a Chapter Mini-Camp to our BV JBers at Innabah Camp & Retreat Center.\nAs an organization dedicated to inclusivity\, CISV Brandywine Valley welcomes youth with all experiences and backgrounds. \nCheck in is on Friday\, January 24th\, from 6:00 to 7:00 pm. Camp ends on Sunday morning\, January 26th\, at 11:00 am.\nInnabah is just north of Chester Springs off Route 100. Our group will be staying in a heated lodge with separate accommodations for male and female JB / chaperones. The lodge has bunk-bed style sleeping configurations. \n  \nHelp make CMC possible by being a chaperone! CISV rules require one chaperone for every eight youth. Chaperoning is a very low-key way for adults to see what the kids actually do at CISV (and it’s super easy\, because the JB board plans all the activities). Chaperones must be over 21 and have background checks (download the forms here) on file with the chapter. If you’d like to chaperone or have questions about the background checks\, please contact Heather Simon. \nChaperone shifts are as follows:\nFriday\, 6:00 pm – Saturday\, 2:30 pm (Saturday breakfast & lunch included)\nand/or Saturday\, 2:00 pm – Sunday\, 11:00 am (Saturday dinner & Sunday breakfast included)\nChaperones are FREE! and encouraged to come and watch their child learn about CISV.\nChaperone Registration is at the bottom of this web page.\n \n  \nEarly Registration Fee: $199.   The deadline to register at this price is January 8th.\nThe registration fee is $215 from January 9th through January 20th.  We cannot guarantee a t-shirt for registrations during this period.\nPayment can be made by Venmo or Paypal.  Payments by Paypal incur a $5 fee per participant to cover Paypal charges.\nScholarships are available.  Please email brandywine@cisvusa.org for more information.\nThe fee covers 2 nights of lodging\, 4 meals (Saturday breakfast through Sunday breakfast)\, and a camp t-shirt!! \n  \nSchedule:\nCheck-in is on Friday\, January 24th\, from 6:00 to 7:00 pm. (Please let us know if you will be arriving late.)\nNOTE: No dinner is served on Friday night.\nPick-up is on Sunday at 11:00 am. PLEASE BE PROMPT. \n  \nWhat to bring:\n– Cold weather clothing (warm jacket\, boots if needed)\n– PJ’s\n– Comfy clothes\n– Running shoes for games/activities\n– Reusable water bottle\n– Toiletries/medicines\n– Towel\n– A snack to share\n– Required forms – see below\nDietary needs?  We will do our best to accommodate special diet requests (please indicate on registration form)\, but recommend that those with special dietary needs bring along their own supplemental FOOD and/or SNACKS. \nDo not bring laptops or expensive clothes/gadgets. Note that cell phone and tablet use will not be permitted by participants during the activities. \n  \nHow to Register:\n– Each participant must be a member of any CISV chapter.  Register here to become a member of Brandywine Valley.\n– Each participant must also complete the Youth-Legal-Form – 2025 CMC. This form requires the signature of both the participant and a parent and a copy of your family’s health insurance card. Please email the completed form and health insurance card to brandywine@cisvusa.org by January 22nd.  A reminder email will be sent prior to camp requesting these items.\n– Each participant must register and pay for Chapter Mini-Camp below. \nContact information and questions:\nGeneral questions: Email Steven Simon.\nDuring camp: We will send a contact name and number before camp begins. \n\nIf you can chaperone\, please return to this page after completing the junior branch registration. \n \nPlease submit junior branch registration first before returning to chaperone registration. \n  \n\n\nOnce you register\, you will receive a confirmation email. Thank you and see you soon! \n 
URL:https://brandywine.cisvusa.org/event/chapter-mini-camp-2025/
LOCATION:Innabah Camp and Retreat Center\, 712 Pughtown Rd\, Spring City\, PA\, 19475\, United States
ATTACH;FMTTYPE=image/jpeg:https://brandywine.cisvusa.org/wp-content/uploads/sites/2/2024/11/CMC-Header-2025-full-scaled-e1734877648354.jpeg
END:VEVENT
BEGIN:VEVENT
DTSTART;TZID=America/New_York:20240119T180000
DTEND;TZID=America/New_York:20240121T110000
DTSTAMP:20260419T182142
CREATED:20221103T191509Z
LAST-MODIFIED:20240105T141512Z
UID:10000074-1705687200-1705834800@brandywine.cisvusa.org
SUMMARY:Chapter Mini Camp
DESCRIPTION:Follow the Yellow Brick Road\n\nto our 2024 Chapter Mini-Camp in the Land of Oz\n\nWe are happy to be able to offer a Chapter Mini-Camp to our BV JBers at Innabah Camp & Retreat Center.\nAs an organization dedicated to inclusivity\, CISV Brandywine Valley welcomes youth with all experiences and backgrounds. \nCheck in is on Friday\, January 19th\, from 6:00 to 7:00 pm. Camp ends on Sunday morning\, January 20th\, at 11:00 am. \nInnabah is just north of Chester Springs off Route 100. Our group will be staying in a heated lodge with separate accommodations for male JB and chaperones\, and for female JB and chaperones. The lodge has bunk bed-style sleeping configuration. \n  \nHelp make CMC possible by being a chaperone! CISV rules require one chaperone for every eight youth. Chaperoning is a very low-key way for adults to see what the kids actually do at CISV (and it’s super easy\, because the JB board plans all the activities). Chaperones must be over 21 and have background checks (download the forms here) on file with the chapter. If you’d like to chaperone or have questions about the background checks\, please contact Heather Simon. \nChaperone shifts are as follows:\nFriday\, 6:00 pm – Saturday\, 2:30 pm (Saturday breakfast & lunch included)\nand/or Saturday\, 2:00 pm – Sunday\, 11:00 am (Saturday dinner & Sunday breakfast included)\nChaperones are FREE! and encouraged to come and watch their child learn about CISV.  Thank you.\nChaperone Registration is at the bottom of this web page.\n \n  \nRegistration fee: $199.   The deadline to register at this price is January 4th.  The fee covers 2 nights of lodging\, 4 meals (Saturday breakfast through Sunday breakfast)\, and a camp t-shirt!! \nThe late registration fee is $215 and closes on January 11th.  We cannot guarantee a t-shirt for registrations during this period. \nA $20 discount will be applied for each additional registration within the same household. \nSchedule:\n \n\nCheck-in is on Friday\, January 19th\, from 6:00 to 7:00 pm. (Please let us know if you will be arriving late.)\n\nNOTE: No dinner is served on Friday night.\n\n\nPick-up is on Sunday at 11:00 am. PLEASE BE PROMPT.\n\nWhat to bring: \n\nCold weather clothing (warm jacket\, boots if needed)\nComfy clothes\nRunning shoes for games/activities\nReusable water bottle\nToiletries/medicines\nSleeping bag/pillow or twin bed linens (required or fee will be assessed)\nTowel\nRequired forms – see below\nDietary needs?  We will do our best to accommodate special diet requests (please indicate on registration form)\, but recommend that those with special dietary needs bring along their own supplemental FOOD and/or SNACKS.\n\nDo not bring laptops or expensive clothes/gadgets. Note that cell phone and tablet use will not be permitted by participants during the activities – and can only be used during free time. \n  \nHow to Register: \n\nEach participant must be a member of any CISV chapter.  Register here to become a member.  Register below for Chapter Mini-Camp.  Payment is made through PayPal.\nEach participant must also complete the Youth-Legal-Form – 2023 CMC. This form requires the signature of both the participant and a parent.  Bring this completed form and a copy of your health insurance coverage to the camp.\nCovid Protocol:  Per CISV International guidelines\, all participants must bring proof of negative test taken within 24 hours of camp check-in.  With the understanding that the COVID landscape remains in flux and our policies surrounding COVID may need to change throughout the year\, until further notice BV is currently MASK OPTIONAL for our meetings and in-person activities\, including CMC. If you don’t feel well or have been exposed to COVID\, please stay home.\n\nBe sure to bring the Youth Legal Form with you to camp. You must bring it in order to participate!  We will send a reminder email with the directions to the camp site a few days before the event. \n  \nContact information and questions:  \nGeneral questions: Email Steven Simon.\nDuring camp: We will send a contact name and number before camp begins. \n\nIf you can chaperone\, please return to this page after completing the junior branch registration. \n \n\n                \n                        \n                            Attend BV Mini-Camp\n                             \n							"*" indicates required fields \n                        \n                        Parent/Guardian Name*Parent/Guardian Cell Number*Parent/Guardian Email Address*\n                            \n                        Number of Participants*123Participant #1 - Full Name*Participant #1 - Birthday*\n                            \n                            MM slash DD slash YYYY\n                        \n                        Participant #1 - Email Address*\n                            \n                        Participant #1 - Please list any dietary restrictionsParticipant #1 - Please list any allergies or other health restrictionsParticipant #1 - T-shirt Size*\n								\n								Youth Mediium\n							\n								\n								Youth Large\n							\n								\n								Adult Small\n							\n								\n								Adult Medium\n							\n								\n								Adult Large\n							\n								\n								Adult Extra Large\n							Participant #2 RegistrationParticipant #2 - Full Name*Participant #2 - Birthday*\n                            \n                            MM slash DD slash YYYY\n                        \n                        Participant #2 - Email Address*\n                            \n                        Participant #2 - Please list any dietary restrictionsParticipant #2 - Please list any allergies or other health restrictionsParticipant #2 - T-shirt Size*\n								\n								Youth Medium\n							\n								\n								Youth Large\n							\n								\n								Adult Small\n							\n								\n								Adult Medium\n							\n								\n								Adult Large\n							\n								\n								Adult Extra Large\n							Participant #3 RegistrationParticipant #3 - Full Name*Participant #3 - Birthday*\n                            \n                            MM slash DD slash YYYY\n                        \n                        Participant #3 - Email Address*\n                            \n                        Participant #3 - Please list any dietary restrictionsParticipant #3 - Please list any allergies or other health restrictionsParticipant #3 - T-shirt Size*\n								\n								Youth Medium\n							\n								\n								Youth Large\n							\n								\n								Adult Small\n							\n								\n								Adult Medium\n							\n								\n								Adult Large\n							\n								\n								Adult Extra Large\n							Check outTotal for CMC Registration\n					\n					\n						Price:\n						$585.00\n					\n					\n					\n				After submitting this registration\, you'll be asked for payment.  Payment can be made by Venmo or Paypal.  Payments by Paypal will incur an additional $6 fee per participant to cover Paypal fees.  Thank you!\n          \n            \n            \n            \n            \n            \n            \n            \n            \n            \n            \n            \n            \n            \n        \n                        \n                        \n\nPlease submit junior branch registration first before returning to chaperone registration. \n\n                \n                        \n                            Chaperone BV Mini Camp\n                             \n                        \n                        Full Name*Phone*Email*\n                            \n                        Please list any dietary restrictionsI can chaperone!*\n			\n				\n				Chaperone both nights!!!\n			\n			\n				\n				Chaperone first night: Friday 6 pm to Saturday 230pm\n			\n			\n				\n				Chaperone second night: Saturday 2pm Sunday 11am\n			\n          \n            \n            \n            \n            \n            \n            \n            \n            \n            \n            \n            \n            \n            \n        \n                        \n                        \n\nOnce you register\, you will receive a confirmation email. Thank you and see you soon!
URL:https://brandywine.cisvusa.org/event/chapter-mini-camp-2/
LOCATION:Innabah Camp and Retreat Center\, 712 Pughtown Rd\, Spring City\, PA\, 19475\, United States
ATTACH;FMTTYPE=image/jpeg:https://brandywine.cisvusa.org/wp-content/uploads/sites/2/2022/11/WizofOz.jpg
END:VEVENT
BEGIN:VEVENT
DTSTART;TZID=America/New_York:20220528T130000
DTEND;TZID=America/New_York:20220530T100000
DTSTAMP:20260419T182142
CREATED:20220316T160354Z
LAST-MODIFIED:20220514T223823Z
UID:10000070-1653742800-1653904800@brandywine.cisvusa.org
SUMMARY:Journey to Space at this year's RMC
DESCRIPTION:The 2022 Mid-Atlantic Regional Mini Camp is back!\nUnfortunately\, registration is closed\nSpring is RMC season! The last two years have been tough\, and we are excited to return to doing in-person CISV stuff with our friends from other chapters! \nWHO?\nFive CISV chapters: Brandywine Valley (host)\, New York\, Washington DC\, Philadelphia\, and Pittsburgh \nWHAT?\nCISVers coming together at RMC to make new friends\, work toward building a more just and peaceful work\, and have fun! \nWHEN?\nMemorial Day Weekend!\nCheck in: Saturday\, May 28\, 1 p.m. (after lunch); camp activities start at 2 p.m.\nCheck out: Monday\, May 30\, 10 a.m. (after breakfast) \nWHERE?\nInnabah Camp and Retreat Center\, Spring City PA (about 45 northeast of Philly) \nHOW?\nRegister below. The cost for RMC (including meals) is $150. The registration deadline is May 14. \nNote: Each participating chapter must provide its own chaperones\, following the 6:1 ratio required by CISV. (Chaperones attend RMC for free!). All participants (JB and adult) must follow CISV’s COVID protocols. \nQuestions about RMC? Contact the hosts at brandywine@cisvusa.org! \nDownload the flyer here and share with friends! \n 
URL:https://brandywine.cisvusa.org/event/journey-to-space-2022-rmc/
LOCATION:Innabah Camp and Retreat Center\, 712 Pughtown Rd\, Spring City\, PA\, 19475\, United States
ATTACH;FMTTYPE=image/jpeg:https://brandywine.cisvusa.org/wp-content/uploads/sites/2/2022/03/GettyImages-1308595699.jpg
END:VEVENT
END:VCALENDAR