BEGIN:VCALENDAR
VERSION:2.0
PRODID:-//Brandywine Valley - ECPv6.15.20//NONSGML v1.0//EN
CALSCALE:GREGORIAN
METHOD:PUBLISH
X-WR-CALNAME:Brandywine Valley
X-ORIGINAL-URL:https://brandywine.cisvusa.org
X-WR-CALDESC:Events for Brandywine Valley
REFRESH-INTERVAL;VALUE=DURATION:PT1H
X-Robots-Tag:noindex
X-PUBLISHED-TTL:PT1H
BEGIN:VTIMEZONE
TZID:America/New_York
BEGIN:DAYLIGHT
TZOFFSETFROM:-0500
TZOFFSETTO:-0400
TZNAME:EDT
DTSTART:20180311T070000
END:DAYLIGHT
BEGIN:STANDARD
TZOFFSETFROM:-0400
TZOFFSETTO:-0500
TZNAME:EST
DTSTART:20181104T060000
END:STANDARD
BEGIN:DAYLIGHT
TZOFFSETFROM:-0500
TZOFFSETTO:-0400
TZNAME:EDT
DTSTART:20190310T070000
END:DAYLIGHT
BEGIN:STANDARD
TZOFFSETFROM:-0400
TZOFFSETTO:-0500
TZNAME:EST
DTSTART:20191103T060000
END:STANDARD
BEGIN:DAYLIGHT
TZOFFSETFROM:-0500
TZOFFSETTO:-0400
TZNAME:EDT
DTSTART:20200308T070000
END:DAYLIGHT
BEGIN:STANDARD
TZOFFSETFROM:-0400
TZOFFSETTO:-0500
TZNAME:EST
DTSTART:20201101T060000
END:STANDARD
END:VTIMEZONE
BEGIN:VEVENT
DTSTART;TZID=America/New_York:20190520T173000
DTEND;TZID=America/New_York:20190520T203000
DTSTAMP:20260423T145807
CREATED:20190320T011348Z
LAST-MODIFIED:20190430T115917Z
UID:10000056-1558373400-1558384200@brandywine.cisvusa.org
SUMMARY:Ronald McDonald House of Delaware Mosaic
DESCRIPTION:Join BV for our latest Mosaic. \nUPDATE: We have enough chaperones for both nights but still need JBers to attend. JBers click here if you would like to volunteer. Thank you. \nBoth JBers and adults are invited to join us at Ronald McDonald House of Delaware to help out with their Family Activities Evenings on Sunday\, May 19th\, 5:30pm to 8:30pm\, and on Monday\, May 20th\, 5:30pm to 8:30pm. \nThe activity that we will be participating in is called Family Game Night. If you would like to sign up for this event\, please be ready to bring and play board games and card games to play with others! If you can play the ukulele or the guitar\, you could bring that to play\, too! \nScroll down to sign up! \nPlease download the Onsite/Activities Event Agreement. \nThere are 7 slots ONLY for each date; two are designated for adult chaperones and five for JBers. \n\n\n \nParticipants should plan on staying the whole time. \n\nTo learn more about Mosaics\, click here.
URL:https://brandywine.cisvusa.org/event/mosaic-ronald-mcdonald-house-of-delaware/2019-05-20/
LOCATION:Ronald McDonald House of Delaware\, 1901 Rockland Road\, Wilmington\, PA\, United States
ATTACH;FMTTYPE=image/jpeg:https://brandywine.cisvusa.org/wp-content/uploads/sites/2/2019/03/picresized_1244768046_ronald_mcdonald_house_10918_kf-lr_2.jpg
GEO:39.7801112;-75.5505429
X-APPLE-STRUCTURED-LOCATION;VALUE=URI;X-ADDRESS=Ronald McDonald House of Delaware 1901 Rockland Road Wilmington PA United States;X-APPLE-RADIUS=500;X-TITLE=1901 Rockland Road:geo:-75.5505429,39.7801112
END:VEVENT
BEGIN:VEVENT
DTSTART;TZID=America/New_York:20190519T173000
DTEND;TZID=America/New_York:20190519T203000
DTSTAMP:20260423T145807
CREATED:20190320T011348Z
LAST-MODIFIED:20190430T115917Z
UID:10000055-1558287000-1558297800@brandywine.cisvusa.org
SUMMARY:Ronald McDonald House of Delaware Mosaic
DESCRIPTION:Join BV for our latest Mosaic. \nUPDATE: We have enough chaperones for both nights but still need JBers to attend. JBers click here if you would like to volunteer. Thank you. \nBoth JBers and adults are invited to join us at Ronald McDonald House of Delaware to help out with their Family Activities Evenings on Sunday\, May 19th\, 5:30pm to 8:30pm\, and on Monday\, May 20th\, 5:30pm to 8:30pm. \nThe activity that we will be participating in is called Family Game Night. If you would like to sign up for this event\, please be ready to bring and play board games and card games to play with others! If you can play the ukulele or the guitar\, you could bring that to play\, too! \nScroll down to sign up! \nPlease download the Onsite/Activities Event Agreement. \nThere are 7 slots ONLY for each date; two are designated for adult chaperones and five for JBers. \n\n\n \nParticipants should plan on staying the whole time. \n\nTo learn more about Mosaics\, click here.
URL:https://brandywine.cisvusa.org/event/mosaic-ronald-mcdonald-house-of-delaware/2019-05-19/
LOCATION:Ronald McDonald House of Delaware\, 1901 Rockland Road\, Wilmington\, PA\, United States
ATTACH;FMTTYPE=image/jpeg:https://brandywine.cisvusa.org/wp-content/uploads/sites/2/2019/03/picresized_1244768046_ronald_mcdonald_house_10918_kf-lr_2.jpg
GEO:39.7801112;-75.5505429
X-APPLE-STRUCTURED-LOCATION;VALUE=URI;X-ADDRESS=Ronald McDonald House of Delaware 1901 Rockland Road Wilmington PA United States;X-APPLE-RADIUS=500;X-TITLE=1901 Rockland Road:geo:-75.5505429,39.7801112
END:VEVENT
END:VCALENDAR