BEGIN:VCALENDAR
VERSION:2.0
PRODID:-//Brandywine Valley - ECPv6.15.20//NONSGML v1.0//EN
CALSCALE:GREGORIAN
METHOD:PUBLISH
X-WR-CALNAME:Brandywine Valley
X-ORIGINAL-URL:https://brandywine.cisvusa.org
X-WR-CALDESC:Events for Brandywine Valley
REFRESH-INTERVAL;VALUE=DURATION:PT1H
X-Robots-Tag:noindex
X-PUBLISHED-TTL:PT1H
BEGIN:VTIMEZONE
TZID:America/New_York
BEGIN:DAYLIGHT
TZOFFSETFROM:-0500
TZOFFSETTO:-0400
TZNAME:EDT
DTSTART:20180311T070000
END:DAYLIGHT
BEGIN:STANDARD
TZOFFSETFROM:-0400
TZOFFSETTO:-0500
TZNAME:EST
DTSTART:20181104T060000
END:STANDARD
BEGIN:DAYLIGHT
TZOFFSETFROM:-0500
TZOFFSETTO:-0400
TZNAME:EDT
DTSTART:20190310T070000
END:DAYLIGHT
BEGIN:STANDARD
TZOFFSETFROM:-0400
TZOFFSETTO:-0500
TZNAME:EST
DTSTART:20191103T060000
END:STANDARD
BEGIN:DAYLIGHT
TZOFFSETFROM:-0500
TZOFFSETTO:-0400
TZNAME:EDT
DTSTART:20200308T070000
END:DAYLIGHT
BEGIN:STANDARD
TZOFFSETFROM:-0400
TZOFFSETTO:-0500
TZNAME:EST
DTSTART:20201101T060000
END:STANDARD
END:VTIMEZONE
BEGIN:VEVENT
DTSTART;TZID=America/New_York:20190511T090000
DTEND;TZID=America/New_York:20190511T153000
DTSTAMP:20260423T045304
CREATED:20180319T134414Z
LAST-MODIFIED:20190430T204533Z
UID:10000038-1557565200-1557588600@brandywine.cisvusa.org
SUMMARY:Working at the Car Wash!
DESCRIPTION:An annual fundraiser with fellow JBers\, our car wash is a fun way to get together and raise money for Brandywine Valley CISV. \nJoin us as we work in shifts in the sun. \nDelegations traditionally do a shift together\, if possible; this is a great bonding time!   \nYour leader and/or delegation “mentor” will be sending a reminder\, but please mark your calendars and save the date! \nPlease remember\, volunteers working with children all need background checks and other clearances so if you are a new member or need yours updated\, go ahead and sign up to help\, then start the online process right away (instructions and forms here)! \nSign up to volunteer below:
URL:https://brandywine.cisvusa.org/event/working-at-the-car-wash/
LOCATION:Sunoco\, Boot Road and Paoli Pike\, West Chester\, PA\, 19382\, United States
ATTACH;FMTTYPE=image/jpeg:https://brandywine.cisvusa.org/wp-content/uploads/sites/2/2018/03/car-wash-cisv.jpeg
GEO:39.9892562;-75.5513037
X-APPLE-STRUCTURED-LOCATION;VALUE=URI;X-ADDRESS=Sunoco Boot Road and Paoli Pike West Chester PA 19382 United States;X-APPLE-RADIUS=500;X-TITLE=Boot Road and Paoli Pike:geo:-75.5513037,39.9892562
END:VEVENT
END:VCALENDAR