BEGIN:VCALENDAR
VERSION:2.0
PRODID:-//Brandywine Valley - ECPv6.15.20//NONSGML v1.0//EN
CALSCALE:GREGORIAN
METHOD:PUBLISH
X-WR-CALNAME:Brandywine Valley
X-ORIGINAL-URL:https://brandywine.cisvusa.org
X-WR-CALDESC:Events for Brandywine Valley
REFRESH-INTERVAL;VALUE=DURATION:PT1H
X-Robots-Tag:noindex
X-PUBLISHED-TTL:PT1H
BEGIN:VTIMEZONE
TZID:America/New_York
BEGIN:DAYLIGHT
TZOFFSETFROM:-0500
TZOFFSETTO:-0400
TZNAME:EDT
DTSTART:20210314T070000
END:DAYLIGHT
BEGIN:STANDARD
TZOFFSETFROM:-0400
TZOFFSETTO:-0500
TZNAME:EST
DTSTART:20211107T060000
END:STANDARD
BEGIN:DAYLIGHT
TZOFFSETFROM:-0500
TZOFFSETTO:-0400
TZNAME:EDT
DTSTART:20220313T070000
END:DAYLIGHT
BEGIN:STANDARD
TZOFFSETFROM:-0400
TZOFFSETTO:-0500
TZNAME:EST
DTSTART:20221106T060000
END:STANDARD
BEGIN:DAYLIGHT
TZOFFSETFROM:-0500
TZOFFSETTO:-0400
TZNAME:EDT
DTSTART:20230312T070000
END:DAYLIGHT
BEGIN:STANDARD
TZOFFSETFROM:-0400
TZOFFSETTO:-0500
TZNAME:EST
DTSTART:20231105T060000
END:STANDARD
END:VTIMEZONE
BEGIN:VEVENT
DTSTART;TZID=America/New_York:20220402T090000
DTEND;TZID=America/New_York:20220402T170000
DTSTAMP:20260421T005021
CREATED:20220303T144234Z
LAST-MODIFIED:20220303T151504Z
UID:10000069-1648890000-1648918800@brandywine.cisvusa.org
SUMMARY:Under the Sea Mini Camp
DESCRIPTION:  \n  \nCalling all JBers!\nChapter Mini Camp “Under the Sea” is happening this year! \nJoin us at Unitarian Congregation of West Chester on April 2nd from 9am to 5pm for a day full of CISV activities\, energizers\, and fun! \nEach participant should bring a lunch\, a water bottle and a snack to share. \nCost is $20.00 per person. \nWe will be following COVID protocols (the church is requiring masks). \n\n\n                \n                        \n                            Attend BV Mini-Camp\n                             \n							"*" indicates required fields \n                        \n                        Parent/Guardian Name*Parent/Guardian Cell Number*Parent/Guardian Email Address*\n                            \n                        Number of Participants*123Participant #1 - Full Name*Participant #1 - Birthday*\n                            \n                            MM slash DD slash YYYY\n                        \n                        Participant #1 - Email Address*\n                            \n                        Participant #1 - Please list any dietary restrictionsParticipant #1 - Please list any allergies or other health restrictionsParticipant #1 - T-shirt Size*\n								\n								Youth Mediium\n							\n								\n								Youth Large\n							\n								\n								Adult Small\n							\n								\n								Adult Medium\n							\n								\n								Adult Large\n							\n								\n								Adult Extra Large\n							Participant #2 RegistrationParticipant #2 - Full Name*Participant #2 - Birthday*\n                            \n                            MM slash DD slash YYYY\n                        \n                        Participant #2 - Email Address*\n                            \n                        Participant #2 - Please list any dietary restrictionsParticipant #2 - Please list any allergies or other health restrictionsParticipant #2 - T-shirt Size*\n								\n								Youth Medium\n							\n								\n								Youth Large\n							\n								\n								Adult Small\n							\n								\n								Adult Medium\n							\n								\n								Adult Large\n							\n								\n								Adult Extra Large\n							Participant #3 RegistrationParticipant #3 - Full Name*Participant #3 - Birthday*\n                            \n                            MM slash DD slash YYYY\n                        \n                        Participant #3 - Email Address*\n                            \n                        Participant #3 - Please list any dietary restrictionsParticipant #3 - Please list any allergies or other health restrictionsParticipant #3 - T-shirt Size*\n								\n								Youth Medium\n							\n								\n								Youth Large\n							\n								\n								Adult Small\n							\n								\n								Adult Medium\n							\n								\n								Adult Large\n							\n								\n								Adult Extra Large\n							Check outTotal for CMC Registration\n					\n					\n						Price:\n						$585.00\n					\n					\n					\n				After submitting this registration\, you'll be asked for payment.  Payment can be made by Venmo or Paypal.  Payments by Paypal will incur an additional $6 fee per participant to cover Paypal fees.  Thank you!
URL:https://brandywine.cisvusa.org/event/under-sea-mini-camp/
LOCATION:Unitarian Congregation of West Chester\, 501 S. High Street\, West Chester\, PA
CATEGORIES:BV Activities,Chapter Activites,JB Activities
ATTACH;FMTTYPE=image/jpeg:https://brandywine.cisvusa.org/wp-content/uploads/sites/2/2022/03/under-sea-copy.jpg
END:VEVENT
END:VCALENDAR