BEGIN:VCALENDAR
VERSION:2.0
PRODID:-//Brandywine Valley - ECPv6.15.20//NONSGML v1.0//EN
CALSCALE:GREGORIAN
METHOD:PUBLISH
X-WR-CALNAME:Brandywine Valley
X-ORIGINAL-URL:https://brandywine.cisvusa.org
X-WR-CALDESC:Events for Brandywine Valley
REFRESH-INTERVAL;VALUE=DURATION:PT1H
X-Robots-Tag:noindex
X-PUBLISHED-TTL:PT1H
BEGIN:VTIMEZONE
TZID:America/New_York
BEGIN:DAYLIGHT
TZOFFSETFROM:-0500
TZOFFSETTO:-0400
TZNAME:EDT
DTSTART:20220313T070000
END:DAYLIGHT
BEGIN:STANDARD
TZOFFSETFROM:-0400
TZOFFSETTO:-0500
TZNAME:EST
DTSTART:20221106T060000
END:STANDARD
BEGIN:DAYLIGHT
TZOFFSETFROM:-0500
TZOFFSETTO:-0400
TZNAME:EDT
DTSTART:20230312T070000
END:DAYLIGHT
BEGIN:STANDARD
TZOFFSETFROM:-0400
TZOFFSETTO:-0500
TZNAME:EST
DTSTART:20231105T060000
END:STANDARD
BEGIN:DAYLIGHT
TZOFFSETFROM:-0500
TZOFFSETTO:-0400
TZNAME:EDT
DTSTART:20240310T070000
END:DAYLIGHT
BEGIN:STANDARD
TZOFFSETFROM:-0400
TZOFFSETTO:-0500
TZNAME:EST
DTSTART:20241103T060000
END:STANDARD
END:VTIMEZONE
BEGIN:VEVENT
DTSTART;TZID=America/New_York:20231112T150000
DTEND;TZID=America/New_York:20231112T163000
DTSTAMP:20260420T052413
CREATED:20231014T192427Z
LAST-MODIFIED:20231016T184702Z
UID:10000090-1699801200-1699806600@brandywine.cisvusa.org
SUMMARY:CISV 101: informational session 2
DESCRIPTION:BRING YOUR FAMILY to a CISV 101 session to learn about CISV\, a worldwide\, nonreligious\, nonpolitical\, nonprofit organization that enables participants age 10+ to build global friendship through local chapter meetings and international and domestic camps. \nYouth and adults from CISV Brandywine Valley will talk about CISV’s educational goals\, international programs\, and local activities. They will also share their own CISV experiences and answer any questions you might have! \nLearn more about CISV USA here and our international organization here. \nDownload a flyer below.
URL:https://brandywine.cisvusa.org/event/cisv-101-informational-session-2/
LOCATION:United Way of Chester County\, 150 John Robert Thomas Drive\, Exton\, PA\, 19341\, United States
CATEGORIES:BV Activities,Chapter Activites,Free,Information Sessions
ATTACH;FMTTYPE=image/jpeg:https://brandywine.cisvusa.org/wp-content/uploads/sites/2/2023/10/CISV-line-of-children-arms-out.jpg
END:VEVENT
END:VCALENDAR