BEGIN:VCALENDAR
VERSION:2.0
PRODID:-//Brandywine Valley - ECPv6.15.20//NONSGML v1.0//EN
CALSCALE:GREGORIAN
METHOD:PUBLISH
X-WR-CALNAME:Brandywine Valley
X-ORIGINAL-URL:https://brandywine.cisvusa.org
X-WR-CALDESC:Events for Brandywine Valley
REFRESH-INTERVAL;VALUE=DURATION:PT1H
X-Robots-Tag:noindex
X-PUBLISHED-TTL:PT1H
BEGIN:VTIMEZONE
TZID:UTC
BEGIN:STANDARD
TZOFFSETFROM:+0000
TZOFFSETTO:+0000
TZNAME:UTC
DTSTART:20190101T000000
END:STANDARD
END:VTIMEZONE
BEGIN:VEVENT
DTSTART;TZID=UTC:20210506T184500
DTEND;TZID=UTC:20210506T203000
DTSTAMP:20260422T132725
CREATED:20170921T021036Z
LAST-MODIFIED:20210401T172151Z
UID:10000030-1620326700-1620333000@brandywine.cisvusa.org
SUMMARY:Virtual Chapter Meetings
DESCRIPTION:We hope to see you at BV’s monthly virtual meetings. A great way to keep in touch and learn what is happening in our chapter. Adult meetings will start 15 minutes earlier than the JB meetings. \nAdult Board Meeting – 6:45 pm to  8:30 pm\nJoin the Zoom Meeting\nClick here.\nMeeting ID: 610 585 3791 \n\nPasscode: March \nOne tap mobile\n13017158592\,6105853791# *895030#\n13126266799\,6105853791#  *895030# \nJB Meeting – 7:00 pm to 8:30 pm\nJoin the GoToMeeting: Click here.\nMeeting ID: 824-984-277\nNo Passcode Required\nYou can also dial in using your phone.\nDial in number = 18668994679\nMeeting ID: 824-984-277 \nUpcoming Meetings – Mark your Calendar\n6:45 pm start for adults; 7:00 pm start for JB \nMay 6\, 2021
URL:https://brandywine.cisvusa.org/event/jb-and-board-member-monthly-meetings/2021-05-06/
LOCATION:Virtual
CATEGORIES:Chapter Activites
ATTACH;FMTTYPE=image/jpeg:https://brandywine.cisvusa.org/wp-content/uploads/sites/2/2017/09/virtual-meetings-for-BVCISV.jpg
ORGANIZER;CN="Sutton Faller":MAILTO:brandywinevalley@cisvusa.org
END:VEVENT
BEGIN:VEVENT
DTSTART;TZID=UTC:20210401T184500
DTEND;TZID=UTC:20210401T203000
DTSTAMP:20260422T132726
CREATED:20170921T021036Z
LAST-MODIFIED:20210401T172151Z
UID:10000029-1617302700-1617309000@brandywine.cisvusa.org
SUMMARY:Virtual Chapter Meetings
DESCRIPTION:We hope to see you at BV’s monthly virtual meetings. A great way to keep in touch and learn what is happening in our chapter. Adult meetings will start 15 minutes earlier than the JB meetings. \nAdult Board Meeting – 6:45 pm to  8:30 pm\nJoin the Zoom Meeting\nClick here.\nMeeting ID: 610 585 3791 \n\nPasscode: March \nOne tap mobile\n13017158592\,6105853791# *895030#\n13126266799\,6105853791#  *895030# \nJB Meeting – 7:00 pm to 8:30 pm\nJoin the GoToMeeting: Click here.\nMeeting ID: 824-984-277\nNo Passcode Required\nYou can also dial in using your phone.\nDial in number = 18668994679\nMeeting ID: 824-984-277 \nUpcoming Meetings – Mark your Calendar\n6:45 pm start for adults; 7:00 pm start for JB \nMay 6\, 2021
URL:https://brandywine.cisvusa.org/event/jb-and-board-member-monthly-meetings/2021-04-01/
LOCATION:Virtual
CATEGORIES:Chapter Activites
ATTACH;FMTTYPE=image/jpeg:https://brandywine.cisvusa.org/wp-content/uploads/sites/2/2017/09/virtual-meetings-for-BVCISV.jpg
ORGANIZER;CN="Sutton Faller":MAILTO:brandywinevalley@cisvusa.org
END:VEVENT
BEGIN:VEVENT
DTSTART;TZID=UTC:20210304T184500
DTEND;TZID=UTC:20210304T203000
DTSTAMP:20260422T132726
CREATED:20170921T021036Z
LAST-MODIFIED:20210401T172151Z
UID:10000028-1614883500-1614889800@brandywine.cisvusa.org
SUMMARY:Virtual Chapter Meetings
DESCRIPTION:We hope to see you at BV’s monthly virtual meetings. A great way to keep in touch and learn what is happening in our chapter. Adult meetings will start 15 minutes earlier than the JB meetings. \nAdult Board Meeting – 6:45 pm to  8:30 pm\nJoin the Zoom Meeting\nClick here.\nMeeting ID: 610 585 3791 \n\nPasscode: March \nOne tap mobile\n13017158592\,6105853791# *895030#\n13126266799\,6105853791#  *895030# \nJB Meeting – 7:00 pm to 8:30 pm\nJoin the GoToMeeting: Click here.\nMeeting ID: 824-984-277\nNo Passcode Required\nYou can also dial in using your phone.\nDial in number = 18668994679\nMeeting ID: 824-984-277 \nUpcoming Meetings – Mark your Calendar\n6:45 pm start for adults; 7:00 pm start for JB \nMay 6\, 2021
URL:https://brandywine.cisvusa.org/event/jb-and-board-member-monthly-meetings/2021-03-04/
LOCATION:Virtual
CATEGORIES:Chapter Activites
ATTACH;FMTTYPE=image/jpeg:https://brandywine.cisvusa.org/wp-content/uploads/sites/2/2017/09/virtual-meetings-for-BVCISV.jpg
ORGANIZER;CN="Sutton Faller":MAILTO:brandywinevalley@cisvusa.org
END:VEVENT
BEGIN:VEVENT
DTSTART;TZID=UTC:20210204T184500
DTEND;TZID=UTC:20210204T203000
DTSTAMP:20260422T132726
CREATED:20170921T021036Z
LAST-MODIFIED:20210401T172151Z
UID:10000027-1612464300-1612470600@brandywine.cisvusa.org
SUMMARY:Virtual Chapter Meetings
DESCRIPTION:We hope to see you at BV’s monthly virtual meetings. A great way to keep in touch and learn what is happening in our chapter. Adult meetings will start 15 minutes earlier than the JB meetings. \nAdult Board Meeting – 6:45 pm to  8:30 pm\nJoin the Zoom Meeting\nClick here.\nMeeting ID: 610 585 3791 \n\nPasscode: March \nOne tap mobile\n13017158592\,6105853791# *895030#\n13126266799\,6105853791#  *895030# \nJB Meeting – 7:00 pm to 8:30 pm\nJoin the GoToMeeting: Click here.\nMeeting ID: 824-984-277\nNo Passcode Required\nYou can also dial in using your phone.\nDial in number = 18668994679\nMeeting ID: 824-984-277 \nUpcoming Meetings – Mark your Calendar\n6:45 pm start for adults; 7:00 pm start for JB \nMay 6\, 2021
URL:https://brandywine.cisvusa.org/event/jb-and-board-member-monthly-meetings/2021-02-04/
LOCATION:Virtual
CATEGORIES:Chapter Activites
ATTACH;FMTTYPE=image/jpeg:https://brandywine.cisvusa.org/wp-content/uploads/sites/2/2017/09/virtual-meetings-for-BVCISV.jpg
ORGANIZER;CN="Sutton Faller":MAILTO:brandywinevalley@cisvusa.org
END:VEVENT
BEGIN:VEVENT
DTSTART;TZID=UTC:20210107T184500
DTEND;TZID=UTC:20210107T203000
DTSTAMP:20260422T132726
CREATED:20170921T021036Z
LAST-MODIFIED:20210401T172151Z
UID:10000026-1610045100-1610051400@brandywine.cisvusa.org
SUMMARY:Virtual Chapter Meetings
DESCRIPTION:We hope to see you at BV’s monthly virtual meetings. A great way to keep in touch and learn what is happening in our chapter. Adult meetings will start 15 minutes earlier than the JB meetings. \nAdult Board Meeting – 6:45 pm to  8:30 pm\nJoin the Zoom Meeting\nClick here.\nMeeting ID: 610 585 3791 \n\nPasscode: March \nOne tap mobile\n13017158592\,6105853791# *895030#\n13126266799\,6105853791#  *895030# \nJB Meeting – 7:00 pm to 8:30 pm\nJoin the GoToMeeting: Click here.\nMeeting ID: 824-984-277\nNo Passcode Required\nYou can also dial in using your phone.\nDial in number = 18668994679\nMeeting ID: 824-984-277 \nUpcoming Meetings – Mark your Calendar\n6:45 pm start for adults; 7:00 pm start for JB \nMay 6\, 2021
URL:https://brandywine.cisvusa.org/event/jb-and-board-member-monthly-meetings/2021-01-07/
LOCATION:Virtual
CATEGORIES:Chapter Activites
ATTACH;FMTTYPE=image/jpeg:https://brandywine.cisvusa.org/wp-content/uploads/sites/2/2017/09/virtual-meetings-for-BVCISV.jpg
ORGANIZER;CN="Sutton Faller":MAILTO:brandywinevalley@cisvusa.org
END:VEVENT
BEGIN:VEVENT
DTSTART;TZID=UTC:20201203T184500
DTEND;TZID=UTC:20201203T203000
DTSTAMP:20260422T132726
CREATED:20170921T021036Z
LAST-MODIFIED:20210401T172151Z
UID:10000025-1607021100-1607027400@brandywine.cisvusa.org
SUMMARY:Virtual Chapter Meetings
DESCRIPTION:We hope to see you at BV’s monthly virtual meetings. A great way to keep in touch and learn what is happening in our chapter. Adult meetings will start 15 minutes earlier than the JB meetings. \nAdult Board Meeting – 6:45 pm to  8:30 pm\nJoin the Zoom Meeting\nClick here.\nMeeting ID: 610 585 3791 \n\nPasscode: March \nOne tap mobile\n13017158592\,6105853791# *895030#\n13126266799\,6105853791#  *895030# \nJB Meeting – 7:00 pm to 8:30 pm\nJoin the GoToMeeting: Click here.\nMeeting ID: 824-984-277\nNo Passcode Required\nYou can also dial in using your phone.\nDial in number = 18668994679\nMeeting ID: 824-984-277 \nUpcoming Meetings – Mark your Calendar\n6:45 pm start for adults; 7:00 pm start for JB \nMay 6\, 2021
URL:https://brandywine.cisvusa.org/event/jb-and-board-member-monthly-meetings/2020-12-03/
LOCATION:Virtual
CATEGORIES:Chapter Activites
ATTACH;FMTTYPE=image/jpeg:https://brandywine.cisvusa.org/wp-content/uploads/sites/2/2017/09/virtual-meetings-for-BVCISV.jpg
ORGANIZER;CN="Sutton Faller":MAILTO:brandywinevalley@cisvusa.org
END:VEVENT
BEGIN:VEVENT
DTSTART;TZID=UTC:20201105T184500
DTEND;TZID=UTC:20201105T203000
DTSTAMP:20260422T132726
CREATED:20170921T021036Z
LAST-MODIFIED:20210401T172151Z
UID:10000024-1604601900-1604608200@brandywine.cisvusa.org
SUMMARY:Virtual Chapter Meetings
DESCRIPTION:We hope to see you at BV’s monthly virtual meetings. A great way to keep in touch and learn what is happening in our chapter. Adult meetings will start 15 minutes earlier than the JB meetings. \nAdult Board Meeting – 6:45 pm to  8:30 pm\nJoin the Zoom Meeting\nClick here.\nMeeting ID: 610 585 3791 \n\nPasscode: March \nOne tap mobile\n13017158592\,6105853791# *895030#\n13126266799\,6105853791#  *895030# \nJB Meeting – 7:00 pm to 8:30 pm\nJoin the GoToMeeting: Click here.\nMeeting ID: 824-984-277\nNo Passcode Required\nYou can also dial in using your phone.\nDial in number = 18668994679\nMeeting ID: 824-984-277 \nUpcoming Meetings – Mark your Calendar\n6:45 pm start for adults; 7:00 pm start for JB \nMay 6\, 2021
URL:https://brandywine.cisvusa.org/event/jb-and-board-member-monthly-meetings/2020-11-05/
LOCATION:Virtual
CATEGORIES:Chapter Activites
ATTACH;FMTTYPE=image/jpeg:https://brandywine.cisvusa.org/wp-content/uploads/sites/2/2017/09/virtual-meetings-for-BVCISV.jpg
ORGANIZER;CN="Sutton Faller":MAILTO:brandywinevalley@cisvusa.org
END:VEVENT
END:VCALENDAR